BEGIN:VCALENDAR
VERSION:2.0
PRODID:-//Agenda Bien-Etre - ECPv6.15.20//NONSGML v1.0//EN
CALSCALE:GREGORIAN
METHOD:PUBLISH
X-WR-CALNAME:Agenda Bien-Etre
X-ORIGINAL-URL:http://agendabienetre.ch
X-WR-CALDESC:Évènements pour Agenda Bien-Etre
REFRESH-INTERVAL;VALUE=DURATION:PT1H
X-Robots-Tag:noindex
X-PUBLISHED-TTL:PT1H
BEGIN:VTIMEZONE
TZID:Europe/Amsterdam
BEGIN:DAYLIGHT
TZOFFSETFROM:+0100
TZOFFSETTO:+0200
TZNAME:CEST
DTSTART:20250330T010000
END:DAYLIGHT
BEGIN:STANDARD
TZOFFSETFROM:+0200
TZOFFSETTO:+0100
TZNAME:CET
DTSTART:20251026T010000
END:STANDARD
BEGIN:DAYLIGHT
TZOFFSETFROM:+0100
TZOFFSETTO:+0200
TZNAME:CEST
DTSTART:20260329T010000
END:DAYLIGHT
BEGIN:STANDARD
TZOFFSETFROM:+0200
TZOFFSETTO:+0100
TZNAME:CET
DTSTART:20261025T010000
END:STANDARD
BEGIN:DAYLIGHT
TZOFFSETFROM:+0100
TZOFFSETTO:+0200
TZNAME:CEST
DTSTART:20270328T010000
END:DAYLIGHT
BEGIN:STANDARD
TZOFFSETFROM:+0200
TZOFFSETTO:+0100
TZNAME:CET
DTSTART:20271031T010000
END:STANDARD
END:VTIMEZONE
BEGIN:VEVENT
DTSTART;TZID=Europe/Amsterdam:20260529T183000
DTEND;TZID=Europe/Amsterdam:20260529T213000
DTSTAMP:20260423T180233
CREATED:20260403T175714Z
LAST-MODIFIED:20260403T180119Z
UID:2029-1780079400-1780090200@agendabienetre.ch
SUMMARY:Cercle de femmes et portraits photo
DESCRIPTION:
URL:http://agendabienetre.ch/event/cercle-de-femmes-et-portraits-photo/
LOCATION:Carouge (GE)\, Genève\, Switzerland
CATEGORIES:Cercle de femmes
ATTACH;FMTTYPE=image/jpeg:http://agendabienetre.ch/wp-content/uploads/2026/04/Cercle-de-femmes-et-portraits-photo-avec-Nadine-Panizzi-et-Sonia-Candolfi.jpg
ORGANIZER;CN="Sonia Candolfi":MAILTO:contact@so-iphotography.ch
END:VEVENT
END:VCALENDAR